BEGIN:VCALENDAR
VERSION:2.0
PRODID:-//pretix//pretix.eu//
BEGIN:VEVENT
UID:pretix-dtmgroup-netforum-0@tickets.dtm-group.de
DTSTART;VALUE=DATE:20230920
DTEND;VALUE=DATE:20230922
DESCRIPTION:Tickets: https://tickets.dtm-group.de/netforum/\nVeranstalter: 
 dtm group
DTSTAMP:20260422T201130Z
LOCATION:Festspielhaus Bregenz
SUMMARY:netforum 2023
END:VEVENT
END:VCALENDAR
